BEGIN:VCALENDAR
VERSION:2.0
PRODID:-//Taste 4 Success - ECPv4.5.9//NONSGML v1.0//EN
CALSCALE:GREGORIAN
METHOD:PUBLISH
X-WR-CALNAME:Taste 4 Success
X-ORIGINAL-URL:http://taste4success.ie
X-WR-CALDESC:Events for Taste 4 Success
BEGIN:VEVENT
DTSTART;TZID=UTC+0:20171115T093000
DTEND;TZID=UTC+0:20171116T140000
DTSTAMP:20171105T223839
CREATED:20170911T151750Z
LAST-MODIFIED:20170911T151750Z
UID:895-1510738200-1510840800@taste4success.ie
SUMMARY:Customer Service Training (Jobseekers)
DESCRIPTION:15th & 16th November Donegal 9.30am – 2.00pm \n
URL:http://taste4success.ie/t4s-event/customer-service-training-jobseekers-21
END:VEVENT
END:VCALENDAR