BEGIN:VCALENDAR
VERSION:2.0
PRODID:-//Taste 4 Success - ECPv4.5.9//NONSGML v1.0//EN
CALSCALE:GREGORIAN
METHOD:PUBLISH
X-WR-CALNAME:Taste 4 Success
X-ORIGINAL-URL:http://taste4success.ie
X-WR-CALDESC:Events for Taste 4 Success
BEGIN:VEVENT
DTSTART;TZID=UTC+0:20171101T093000
DTEND;TZID=UTC+0:20171102T140000
DTSTAMP:20171105T223617
CREATED:20170911T151153Z
LAST-MODIFIED:20170911T151153Z
UID:887-1509528600-1509631200@taste4success.ie
SUMMARY:Customer Service Training (Jobseekers)
DESCRIPTION:1st & 2nd November Carrick on Shannon 9.30am – 2.00pm \n
URL:http://taste4success.ie/t4s-event/customer-service-training-jobseekers-17
END:VEVENT
END:VCALENDAR